BEGIN:VCALENDAR
VERSION:2.0
PRODID:-//City of Ishpeming - ECPv5.16.4//NONSGML v1.0//EN
CALSCALE:GREGORIAN
METHOD:PUBLISH
X-WR-CALNAME:City of Ishpeming
X-ORIGINAL-URL:https://ishpemingcity.org
X-WR-CALDESC:Events for City of Ishpeming
BEGIN:VTIMEZONE
TZID:America/New_York
BEGIN:DAYLIGHT
TZOFFSETFROM:-0500
TZOFFSETTO:-0400
TZNAME:EDT
DTSTART:20230312T070000
END:DAYLIGHT
BEGIN:STANDARD
TZOFFSETFROM:-0400
TZOFFSETTO:-0500
TZNAME:EST
DTSTART:20231105T060000
END:STANDARD
END:VTIMEZONE
BEGIN:VEVENT
DTSTART;TZID=America/New_York:20230728T183000
DTEND;TZID=America/New_York:20230730T183000
DTSTAMP:20260422T204105
CREATED:20230718T201641Z
LAST-MODIFIED:20230718T201641Z
UID:10118-1690569000-1690741800@ishpemingcity.org
SUMMARY:128th Annual U.P. Firefighter's Tournament in Negaunee
DESCRIPTION:View the 128th Annual U.P. Firefighter’s Tournament Website\nfor additional information.
URL:https://ishpemingcity.org/event/128th-annual-u-p-firefighters-tournament-in-negaunee/
END:VEVENT
END:VCALENDAR