BEGIN:VCALENDAR
VERSION:2.0
PRODID:-//City of Ishpeming - ECPv5.16.4//NONSGML v1.0//EN
CALSCALE:GREGORIAN
METHOD:PUBLISH
X-WR-CALNAME:City of Ishpeming
X-ORIGINAL-URL:https://ishpemingcity.org
X-WR-CALDESC:Events for City of Ishpeming
BEGIN:VTIMEZONE
TZID:America/New_York
BEGIN:DAYLIGHT
TZOFFSETFROM:-0500
TZOFFSETTO:-0400
TZNAME:EDT
DTSTART:20230312T070000
END:DAYLIGHT
BEGIN:STANDARD
TZOFFSETFROM:-0400
TZOFFSETTO:-0500
TZNAME:EST
DTSTART:20231105T060000
END:STANDARD
END:VTIMEZONE
BEGIN:VEVENT
DTSTART;TZID=America/New_York:20230904T080000
DTEND;TZID=America/New_York:20230904T170000
DTSTAMP:20260423T215849
CREATED:20220808T182304Z
LAST-MODIFIED:20230530T131336Z
UID:9366-1693814400-1693846800@ishpemingcity.org
SUMMARY:City Offices will be closed in observance of Labor Day
DESCRIPTION:
URL:https://ishpemingcity.org/event/city-offices-will-be-closed-in-observance-of-labor-day/
END:VEVENT
END:VCALENDAR