BEGIN:VCALENDAR
VERSION:2.0
PRODID:-//City of Ishpeming - ECPv5.16.4//NONSGML v1.0//EN
CALSCALE:GREGORIAN
METHOD:PUBLISH
X-WR-CALNAME:City of Ishpeming
X-ORIGINAL-URL:https://ishpemingcity.org
X-WR-CALDESC:Events for City of Ishpeming
BEGIN:VTIMEZONE
TZID:America/New_York
BEGIN:DAYLIGHT
TZOFFSETFROM:-0500
TZOFFSETTO:-0400
TZNAME:EDT
DTSTART:20240310T070000
END:DAYLIGHT
BEGIN:STANDARD
TZOFFSETFROM:-0400
TZOFFSETTO:-0500
TZNAME:EST
DTSTART:20241103T060000
END:STANDARD
END:VTIMEZONE
BEGIN:VEVENT
DTSTART;TZID=America/New_York:20240923T160000
DTEND;TZID=America/New_York:20240923T180000
DTSTAMP:20260421T142431
CREATED:20240912T122537Z
LAST-MODIFIED:20240923T141549Z
UID:11141-1727107200-1727114400@ishpemingcity.org
SUMMARY:DDA Meeting and Joint Meeting with the Planning Commission
DESCRIPTION:9-23-24 Regular Agenda with Joint DDA -PC Meeting
URL:https://ishpemingcity.org/event/dda-meeting-and-joint-meeting-with-the-planning-commission/
LOCATION:City Hall Council Chambers (upstairs)\, 100 E Division Street\, Ishpeming\, MI\, 49849\, United States
END:VEVENT
END:VCALENDAR