BEGIN:VCALENDAR
VERSION:2.0
PRODID:-//City of Ishpeming - ECPv5.16.4//NONSGML v1.0//EN
CALSCALE:GREGORIAN
METHOD:PUBLISH
X-WR-CALNAME:City of Ishpeming
X-ORIGINAL-URL:https://ishpemingcity.org
X-WR-CALDESC:Events for City of Ishpeming
BEGIN:VTIMEZONE
TZID:America/New_York
BEGIN:DAYLIGHT
TZOFFSETFROM:-0500
TZOFFSETTO:-0400
TZNAME:EDT
DTSTART:20230312T070000
END:DAYLIGHT
BEGIN:STANDARD
TZOFFSETFROM:-0400
TZOFFSETTO:-0500
TZNAME:EST
DTSTART:20231105T060000
END:STANDARD
END:VTIMEZONE
BEGIN:VEVENT
DTSTART;TZID=America/New_York:20230724T160000
DTEND;TZID=America/New_York:20230724T173000
DTSTAMP:20260422T093300
CREATED:20230721T163755Z
LAST-MODIFIED:20230721T164531Z
UID:10139-1690214400-1690219800@ishpemingcity.org
SUMMARY:Downtown Development Authority Meeting
DESCRIPTION:7-24-23 Regular Agenda \nWhen: Jul 24\, 2023 04:00 PM Eastern Time (US and Canada)\nTopic: DDA Regular Meeting: July 24\, 2023 at 4:00 p.m. \nPlease click the link below to join the webinar:\nhttps://us02web.zoom.us/j/89193239182\nOr One tap mobile :\n+13092053325\,\,89193239182# US\n+13126266799\,\,89193239182# US (Chicago)\nOr Telephone:\nDial(for higher quality\, dial a number based on your current location):\n+1 309 205 3325 US\n+1 312 626 6799 US (Chicago) \nWebinar ID: 891 9323 9182 \n 
URL:https://ishpemingcity.org/event/downtown-development-authority-meeting-10/
LOCATION:City Hall Council Chambers (upstairs)\, 100 E Division Street\, Ishpeming\, MI\, 49849\, United States
END:VEVENT
END:VCALENDAR