BEGIN:VCALENDAR
VERSION:2.0
PRODID:-//City of Ishpeming - ECPv5.16.4//NONSGML v1.0//EN
CALSCALE:GREGORIAN
METHOD:PUBLISH
X-WR-CALNAME:City of Ishpeming
X-ORIGINAL-URL:https://ishpemingcity.org
X-WR-CALDESC:Events for City of Ishpeming
BEGIN:VTIMEZONE
TZID:America/New_York
BEGIN:DAYLIGHT
TZOFFSETFROM:-0500
TZOFFSETTO:-0400
TZNAME:EDT
DTSTART:20230312T070000
END:DAYLIGHT
BEGIN:STANDARD
TZOFFSETFROM:-0400
TZOFFSETTO:-0500
TZNAME:EST
DTSTART:20231105T060000
END:STANDARD
END:VTIMEZONE
BEGIN:VEVENT
DTSTART;TZID=America/New_York:20230630T100000
DTEND;TZID=America/New_York:20230630T170000
DTSTAMP:20260421T180743
CREATED:20230419T153337Z
LAST-MODIFIED:20230419T153435Z
UID:9822-1688119200-1688144400@ishpemingcity.org
SUMMARY:Festival of Treasures
DESCRIPTION:
URL:https://ishpemingcity.org/event/festival-of-treasures-6/
END:VEVENT
END:VCALENDAR