BEGIN:VCALENDAR
VERSION:2.0
PRODID:-//City of Ishpeming - ECPv5.16.4//NONSGML v1.0//EN
CALSCALE:GREGORIAN
METHOD:PUBLISH
X-WR-CALNAME:City of Ishpeming
X-ORIGINAL-URL:https://ishpemingcity.org
X-WR-CALDESC:Events for City of Ishpeming
BEGIN:VTIMEZONE
TZID:America/New_York
BEGIN:DAYLIGHT
TZOFFSETFROM:-0500
TZOFFSETTO:-0400
TZNAME:EDT
DTSTART:20170312T070000
END:DAYLIGHT
BEGIN:STANDARD
TZOFFSETFROM:-0400
TZOFFSETTO:-0500
TZNAME:EST
DTSTART:20171105T060000
END:STANDARD
END:VTIMEZONE
BEGIN:VEVENT
DTSTART;TZID=America/New_York:20170603T130000
DTEND;TZID=America/New_York:20170603T170000
DTSTAMP:20260425T192911
CREATED:20170531T160622Z
LAST-MODIFIED:20170531T160642Z
UID:3700-1496494800-1496509200@ishpemingcity.org
SUMMARY:Iron Range Roll
DESCRIPTION:Iron Ore Heritage Trail – Start at Cliff’s Shaft Mine Museum at 1:00 p.m.
URL:https://ishpemingcity.org/event/iron-range-roll/
END:VEVENT
END:VCALENDAR