BEGIN:VCALENDAR
VERSION:2.0
PRODID:-//City of Ishpeming - ECPv5.16.4//NONSGML v1.0//EN
CALSCALE:GREGORIAN
METHOD:PUBLISH
X-WR-CALNAME:City of Ishpeming
X-ORIGINAL-URL:https://ishpemingcity.org
X-WR-CALDESC:Events for City of Ishpeming
BEGIN:VTIMEZONE
TZID:America/New_York
BEGIN:DAYLIGHT
TZOFFSETFROM:-0500
TZOFFSETTO:-0400
TZNAME:EDT
DTSTART:20170312T070000
END:DAYLIGHT
BEGIN:STANDARD
TZOFFSETFROM:-0400
TZOFFSETTO:-0500
TZNAME:EST
DTSTART:20171105T060000
END:STANDARD
END:VTIMEZONE
BEGIN:VEVENT
DTSTART;TZID=America/New_York:20170511T163000
DTEND;TZID=America/New_York:20170511T163000
DTSTAMP:20260425T093808
CREATED:20170118T162735Z
LAST-MODIFIED:20170505T151935Z
UID:3283-1494520200-1494520200@ishpemingcity.org
SUMMARY:Iron Ore Heritage Recreation Authority Special Meeting
DESCRIPTION:
URL:https://ishpemingcity.org/event/ishpeming-city-council-meeting-11/
LOCATION:IOHRA office\, 102 W. Washington Street\, Suite 232\, Marquette\, MI\, 49849\, United States
END:VEVENT
END:VCALENDAR