BEGIN:VCALENDAR
VERSION:2.0
PRODID:-//City of Ishpeming - ECPv5.16.4//NONSGML v1.0//EN
CALSCALE:GREGORIAN
METHOD:PUBLISH
X-WR-CALNAME:City of Ishpeming
X-ORIGINAL-URL:https://ishpemingcity.org
X-WR-CALDESC:Events for City of Ishpeming
BEGIN:VTIMEZONE
TZID:America/New_York
BEGIN:DAYLIGHT
TZOFFSETFROM:-0500
TZOFFSETTO:-0400
TZNAME:EDT
DTSTART:20230312T070000
END:DAYLIGHT
BEGIN:STANDARD
TZOFFSETFROM:-0400
TZOFFSETTO:-0500
TZNAME:EST
DTSTART:20231105T060000
END:STANDARD
END:VTIMEZONE
BEGIN:VEVENT
DTSTART;TZID=America/New_York:20230111T180000
DTEND;TZID=America/New_York:20230111T210000
DTSTAMP:20260421T113730
CREATED:20230104T142416Z
LAST-MODIFIED:20230108T204336Z
UID:9582-1673460000-1673470800@ishpemingcity.org
SUMMARY:Ishpeming City Council Meeting
DESCRIPTION:1-11-2023 Council Meeting Agenda \n************************************************* \nWhen: Jan 11\, 2023 06:00 PM Eastern Time (US and Canada)\nTopic: City of Ishpeming Regular Council Meeting – January 11\, 2023 @ 6:00 PM \nPlease click the link below to join the webinar:\nhttps://us02web.zoom.us/j/84732595986 \nOr One tap mobile :\nUS: +13017158592\,\,84732595986# or +13052241968\,\,84732595986# \nOr Telephone:\nDial(for higher quality\, dial a number based on your current location):\nUS: +1 301 715 8592 or +1 305 224 1968 or +1 309 205 3325 or +1 312 626 6799 or +1 646 558 8656 or +1 646 931 3860 or +1 564 217 2000 or +1 669 444 9171 or +1 669 900 9128 or +1 689 278 1000 or +1 719 359 4580 or +1 253 205 0468 or +1 253 215 8782 or +1 346 248 7799 or +1 360 209 5623 or +1 386 347 5053 or +1 507 473 4847 \nWebinar ID: 847 3259 5986\nInternational numbers available: https://us02web.zoom.us/u/k5TVMovhG \nMeetings are temporarily not being broadcast LIVE on Charter Cable Channel 189.\nClick here to view the City of Ishpeming YouTube Channel
URL:https://ishpemingcity.org/event/ishpeming-city-council-meeting-78/
LOCATION:City Hall Council Chambers (upstairs)\, 100 E Division Street\, Ishpeming\, MI\, 49849\, United States
END:VEVENT
END:VCALENDAR