BEGIN:VCALENDAR
VERSION:2.0
PRODID:-//City of Ishpeming - ECPv5.16.4//NONSGML v1.0//EN
CALSCALE:GREGORIAN
METHOD:PUBLISH
X-WR-CALNAME:City of Ishpeming
X-ORIGINAL-URL:https://ishpemingcity.org
X-WR-CALDESC:Events for City of Ishpeming
BEGIN:VTIMEZONE
TZID:America/New_York
BEGIN:DAYLIGHT
TZOFFSETFROM:-0500
TZOFFSETTO:-0400
TZNAME:EDT
DTSTART:20230312T070000
END:DAYLIGHT
BEGIN:STANDARD
TZOFFSETFROM:-0400
TZOFFSETTO:-0500
TZNAME:EST
DTSTART:20231105T060000
END:STANDARD
END:VTIMEZONE
BEGIN:VEVENT
DTSTART;TZID=America/New_York:20230816T180000
DTEND;TZID=America/New_York:20230816T200000
DTSTAMP:20260423T123643
CREATED:20230813T213914Z
LAST-MODIFIED:20230817T001226Z
UID:10197-1692208800-1692216000@ishpemingcity.org
SUMMARY:Special Ishpeming City Council Meeting
DESCRIPTION:  \n8-16-2023 Special Council Agenda \n  \n**************************************************************** \nWhen: Aug 16\, 2023 06:00 PM Eastern Time (US and Canada)\nTopic: City of Ishpeming Special Council Meeting – August 16\, 2023 at 6:00 P.M. \nPlease click the link below to join the webinar:\nhttps://us02web.zoom.us/j/81188091501 \nOr One tap mobile :\n+13126266799\,\,81188091501# US (Chicago)\n+16465588656\,\,81188091501# US (New York) \nOr Telephone:\nDial(for higher quality\, dial a number based on your current location):\n+1 312 626 6799 US (Chicago)\n+1 646 558 8656 US (New York) \nWebinar ID: 811 8809 1501\nInternational numbers available: https://us02web.zoom.us/u/kbxtJduGNd \nMeetings are temporarily not being broadcast LIVE on Charter Cable Channel 189.\nClick here to view the City of Ishpeming YouTube Channel
URL:https://ishpemingcity.org/event/special-ishpeming-city-council-meeting-99/
LOCATION:City Hall Council Chambers (upstairs)\, 100 E Division Street\, Ishpeming\, MI\, 49849\, United States
END:VEVENT
END:VCALENDAR