BEGIN:VCALENDAR
VERSION:2.0
PRODID:-//City of Ishpeming - ECPv5.16.4//NONSGML v1.0//EN
CALSCALE:GREGORIAN
METHOD:PUBLISH
X-WR-CALNAME:City of Ishpeming
X-ORIGINAL-URL:https://ishpemingcity.org
X-WR-CALDESC:Events for City of Ishpeming
BEGIN:VTIMEZONE
TZID:America/New_York
BEGIN:DAYLIGHT
TZOFFSETFROM:-0500
TZOFFSETTO:-0400
TZNAME:EDT
DTSTART:20230312T070000
END:DAYLIGHT
BEGIN:STANDARD
TZOFFSETFROM:-0400
TZOFFSETTO:-0500
TZNAME:EST
DTSTART:20231105T060000
END:STANDARD
END:VTIMEZONE
BEGIN:VEVENT
DTSTART;TZID=America/New_York:20230729T070000
DTEND;TZID=America/New_York:20230729T140000
DTSTAMP:20260422T220834
CREATED:20230718T190118Z
LAST-MODIFIED:20230721T141401Z
UID:10110-1690614000-1690639200@ishpemingcity.org
SUMMARY:Swim Teal Lake: Benefit for Diabetes
DESCRIPTION:View the Swim Teal Lake website for further information.\nThe 20th Anniversary of Swim Teal Lake: Benefit for Diabetes will be taking place on\nSaturday\, July 29th\, 2023. Swim Teal Lake is a fundraising event that helps support the U.P. Diabetes \nSwim Teal Lake is open to swimmers of all abilities and ages and features a 1⁄4 mile “Short-n-Sweet” race and two 2 1⁄4 mile races across Teal Lake (Beginner and Advanced Heats). The races start at 8:30 am in front of the Lakeview Elementary School in Negaunee. Registration can be found at www.swimteallake.org. \nSwimmers and volunteers will be treated to a free lunch/dinner from the St. Rocco/St. Anthony Society’s Italian Fest at Al Quaal that is sponsored by the West End Health Foundation and Blue Cross/Blue Shield of Michigan. \nVolunteers on land and kayakers are welcome and encouraged to contact Kristen Cambensy at 906-273-1120 or email cambensyk@upcap.org.
URL:https://ishpemingcity.org/event/swim-teal-lake-benefit-for-diabetes-6/
LOCATION:Al Quaal\, Poplar Street\, Ishpeming\, MI\, 49849\, United States
END:VEVENT
END:VCALENDAR